BEGIN:VCALENDAR
VERSION:2.0
PRODID:-//www.tubman.org//NONSGML kigkonsult.se iCalcreator 2.30.10//
CALSCALE:GREGORIAN
METHOD:PUBLISH
UID:25363767-2186-4633-b9fc-b7ac0524f25b
X-WR-CALDESC:Tubman presents a benefit supporting LGBTQ+ youth safe spaces 
 with performances by Ladies of LaFemme Drag Show. The event will have gift
  basket raffles\, a silent auction\, and cocktails with hors d'oevres star
 ting at 6pm. The Ladies of LaFemme Drag Show will begin at 7pm. For any qu
 estions call the number below.
X-WR-RELCALID:2c7ba3cefe92da9b49c3f83d14d50194
X-WR-TIMEZONE:America/Chicago
BEGIN:VTIMEZONE
TZID:America/Chicago
BEGIN:STANDARD
TZNAME:CST
DTSTART:20251102T020000
TZOFFSETFROM:-0500
TZOFFSETTO:-0600
RDATE:20261101T020000
END:STANDARD
BEGIN:DAYLIGHT
TZNAME:CDT
DTSTART:20260308T020000
TZOFFSETFROM:-0600
TZOFFSETTO:-0500
RDATE:20270314T020000
END:DAYLIGHT
END:VTIMEZONE
BEGIN:VEVENT
UID:c9001c6e-ae1e-4aac-ab4b-fbc59bd6d886
DTSTAMP:20260425T104657Z
DESCRIPTION:Tubman presents a benefit supporting LGBTQ+ youth safe spaces w
 ith performances by Ladies of LaFemme Drag Show. The event will have gift 
 basket raffles\, a silent auction\, and cocktails with hors d'oevres start
 ing at 6pm. The Ladies of LaFemme Drag Show will begin at 7pm. For any que
 stions call the number below.
DTSTART;TZID=America/Chicago:20260507T180000
DTEND;TZID=America/Chicago:20260507T203000
LOCATION:408 South Hennepin Avenue\, Minneapolis\, MN 55401 US
SUMMARY:Gay90s - Benefit Supporting LGBTQ+ Youth Spaces with Ladies of LaFe
 mme
END:VEVENT
END:VCALENDAR
